BEGIN:VCALENDAR
VERSION:2.0
PRODID:-//Restoration Covenant Church - ECPv6.15.20//NONSGML v1.0//EN
CALSCALE:GREGORIAN
METHOD:PUBLISH
X-ORIGINAL-URL:https://www.restorationcc.org
X-WR-CALDESC:Events for Restoration Covenant Church
REFRESH-INTERVAL;VALUE=DURATION:PT1H
X-Robots-Tag:noindex
X-PUBLISHED-TTL:PT1H
BEGIN:VTIMEZONE
TZID:America/Chicago
BEGIN:DAYLIGHT
TZOFFSETFROM:-0600
TZOFFSETTO:-0500
TZNAME:CDT
DTSTART:20250309T080000
END:DAYLIGHT
BEGIN:STANDARD
TZOFFSETFROM:-0500
TZOFFSETTO:-0600
TZNAME:CST
DTSTART:20251102T070000
END:STANDARD
BEGIN:DAYLIGHT
TZOFFSETFROM:-0600
TZOFFSETTO:-0500
TZNAME:CDT
DTSTART:20260308T080000
END:DAYLIGHT
BEGIN:STANDARD
TZOFFSETFROM:-0500
TZOFFSETTO:-0600
TZNAME:CST
DTSTART:20261101T070000
END:STANDARD
BEGIN:DAYLIGHT
TZOFFSETFROM:-0600
TZOFFSETTO:-0500
TZNAME:CDT
DTSTART:20270314T080000
END:DAYLIGHT
BEGIN:STANDARD
TZOFFSETFROM:-0500
TZOFFSETTO:-0600
TZNAME:CST
DTSTART:20271107T070000
END:STANDARD
END:VTIMEZONE
BEGIN:VEVENT
DTSTART;TZID=America/Chicago:20260423T100000
DTEND;TZID=America/Chicago:20260423T113000
DTSTAMP:20260423T125042
CREATED:20260218T195622Z
LAST-MODIFIED:20260218T195622Z
UID:254363-1776938400-1776943800@www.restorationcc.org
SUMMARY:Women's Bible Study
DESCRIPTION:Women’s Bible Study\nThursdays beginning March 5\n10–11:30am\nJoin us for a 12-week study as we look at twelve daring women of faith and discover how to trust God through both failure and success\, draw close to Him in the middle of life’s trials and find contentment in every season. \nCost is $17 for the study guide. \nFor more information\, contact DeeAnn LaLuzerne at deeannlaluzerne@restorationcov.org.\nRegistration deadline is February 22 so we have time to order books.
URL:https://www.restorationcc.org/event/womens-bible-study-8/
CATEGORIES:All Church,Women's Connection
END:VEVENT
BEGIN:VEVENT
DTSTART;TZID=America/Chicago:20260419T113000
DTEND;TZID=America/Chicago:20260419T130000
DTSTAMP:20260423T125042
CREATED:20260320T225828Z
LAST-MODIFIED:20260320T225828Z
UID:254743-1776598200-1776603600@www.restorationcc.org
SUMMARY:Meet + Greet
DESCRIPTION:New to Restoration? \nYou’re invited to meet the Staff and each other at a casual meet and greet on April 19 (after 2nd Service). A light lunch will be provided. Limited seats available.
URL:https://www.restorationcc.org/event/meet-greet/
CATEGORIES:All Church
END:VEVENT
BEGIN:VEVENT
DTSTART;TZID=America/Chicago:20260416T100000
DTEND;TZID=America/Chicago:20260416T113000
DTSTAMP:20260423T125042
CREATED:20260218T195903Z
LAST-MODIFIED:20260218T195903Z
UID:254371-1776333600-1776339000@www.restorationcc.org
SUMMARY:Women's Bible Study
DESCRIPTION:Women’s Bible Study\nThursdays beginning March 5\n10–11:30am\nJoin us for a 12-week study as we look at twelve daring women of faith and discover how to trust God through both failure and success\, draw close to Him in the middle of life’s trials and find contentment in every season. \nCost is $17 for the study guide. \nFor more information\, contact DeeAnn LaLuzerne at deeannlaluzerne@restorationcov.org.\nRegistration deadline is February 22 so we have time to order books.
URL:https://www.restorationcc.org/event/womens-bible-study-12/
CATEGORIES:All Church,Women's Connection
END:VEVENT
BEGIN:VEVENT
DTSTART;TZID=America/Chicago:20260416T100000
DTEND;TZID=America/Chicago:20260416T113000
DTSTAMP:20260423T125042
CREATED:20260218T195549Z
LAST-MODIFIED:20260218T195549Z
UID:254361-1776333600-1776339000@www.restorationcc.org
SUMMARY:Women's Bible Study
DESCRIPTION:Women’s Bible Study\nThursdays beginning March 5\n10–11:30am\nJoin us for a 12-week study as we look at twelve daring women of faith and discover how to trust God through both failure and success\, draw close to Him in the middle of life’s trials and find contentment in every season. \nCost is $17 for the study guide. \nFor more information\, contact DeeAnn LaLuzerne at deeannlaluzerne@restorationcov.org.\nRegistration deadline is February 22 so we have time to order books.
URL:https://www.restorationcc.org/event/womens-bible-study-7/
CATEGORIES:All Church,Women's Connection
END:VEVENT
BEGIN:VEVENT
DTSTART;TZID=America/Chicago:20260409T100000
DTEND;TZID=America/Chicago:20260409T113000
DTSTAMP:20260423T125042
CREATED:20260218T195439Z
LAST-MODIFIED:20260218T195439Z
UID:254359-1775728800-1775734200@www.restorationcc.org
SUMMARY:Women's Bible Study
DESCRIPTION:Women’s Bible Study\nThursdays beginning March 5\n10–11:30am\nJoin us for a 12-week study as we look at twelve daring women of faith and discover how to trust God through both failure and success\, draw close to Him in the middle of life’s trials and find contentment in every season. \nCost is $17 for the study guide. \nFor more information\, contact DeeAnn LaLuzerne at deeannlaluzerne@restorationcov.org.\nRegistration deadline is February 22 so we have time to order books.
URL:https://www.restorationcc.org/event/womens-bible-study-6/
CATEGORIES:All Church,Women's Connection
END:VEVENT
BEGIN:VEVENT
DTSTART;TZID=America/Chicago:20260405T090000
DTEND;TZID=America/Chicago:20260405T113000
DTSTAMP:20260423T125042
CREATED:20260308T040535Z
LAST-MODIFIED:20260308T040535Z
UID:254728-1775379600-1775388600@www.restorationcc.org
SUMMARY:Easter at Restoration
DESCRIPTION:
URL:https://www.restorationcc.org/event/easter-at-restoration/
CATEGORIES:All Church
END:VEVENT
BEGIN:VEVENT
DTSTART;TZID=America/Chicago:20260403T190000
DTEND;TZID=America/Chicago:20260403T200000
DTSTAMP:20260423T125042
CREATED:20260308T040510Z
LAST-MODIFIED:20260308T040510Z
UID:254726-1775242800-1775246400@www.restorationcc.org
SUMMARY:Good Friday Service
DESCRIPTION:
URL:https://www.restorationcc.org/event/good-friday-service/
CATEGORIES:All Church
END:VEVENT
BEGIN:VEVENT
DTSTART;TZID=America/Chicago:20260402T100000
DTEND;TZID=America/Chicago:20260402T113000
DTSTAMP:20260423T125042
CREATED:20260218T195258Z
LAST-MODIFIED:20260218T195258Z
UID:254357-1775124000-1775129400@www.restorationcc.org
SUMMARY:Women's Bible Study
DESCRIPTION:Women’s Bible Study\nThursdays beginning March 5\n10–11:30am\nJoin us for a 12-week study as we look at twelve daring women of faith and discover how to trust God through both failure and success\, draw close to Him in the middle of life’s trials and find contentment in every season. \nCost is $17 for the study guide. \nFor more information\, contact DeeAnn LaLuzerne at deeannlaluzerne@restorationcov.org.\nRegistration deadline is February 22 so we have time to order books.
URL:https://www.restorationcc.org/event/womens-bible-study-5/
CATEGORIES:All Church,Women's Connection
END:VEVENT
BEGIN:VEVENT
DTSTART;TZID=America/Chicago:20260326T100000
DTEND;TZID=America/Chicago:20260326T113000
DTSTAMP:20260423T125042
CREATED:20260218T195211Z
LAST-MODIFIED:20260218T195211Z
UID:254355-1774519200-1774524600@www.restorationcc.org
SUMMARY:Women's Bible Study
DESCRIPTION:Women’s Bible Study\nThursdays beginning March 5\n10–11:30am\nJoin us for a 12-week study as we look at twelve daring women of faith and discover how to trust God through both failure and success\, draw close to Him in the middle of life’s trials and find contentment in every season. \nCost is $17 for the study guide. \nFor more information\, contact DeeAnn LaLuzerne at deeannlaluzerne@restorationcov.org.\nRegistration deadline is February 22 so we have time to order books.
URL:https://www.restorationcc.org/event/womens-bible-study-4/
CATEGORIES:All Church,Women's Connection
END:VEVENT
END:VCALENDAR